BEGIN:VCALENDAR
VERSION:2.0
PRODID:-//Jamaican Canadian Association - ECPv6.15.20//NONSGML v1.0//EN
CALSCALE:GREGORIAN
METHOD:PUBLISH
X-WR-CALNAME:Jamaican Canadian Association
X-ORIGINAL-URL:https://jcaontario.org
X-WR-CALDESC:Events for Jamaican Canadian Association
REFRESH-INTERVAL;VALUE=DURATION:PT1H
X-Robots-Tag:noindex
X-PUBLISHED-TTL:PT1H
BEGIN:VTIMEZONE
TZID:America/Toronto
BEGIN:DAYLIGHT
TZOFFSETFROM:-0500
TZOFFSETTO:-0400
TZNAME:EDT
DTSTART:20240310T070000
END:DAYLIGHT
BEGIN:STANDARD
TZOFFSETFROM:-0400
TZOFFSETTO:-0500
TZNAME:EST
DTSTART:20241103T060000
END:STANDARD
BEGIN:DAYLIGHT
TZOFFSETFROM:-0500
TZOFFSETTO:-0400
TZNAME:EDT
DTSTART:20250309T070000
END:DAYLIGHT
BEGIN:STANDARD
TZOFFSETFROM:-0400
TZOFFSETTO:-0500
TZNAME:EST
DTSTART:20251102T060000
END:STANDARD
BEGIN:DAYLIGHT
TZOFFSETFROM:-0500
TZOFFSETTO:-0400
TZNAME:EDT
DTSTART:20260308T070000
END:DAYLIGHT
BEGIN:STANDARD
TZOFFSETFROM:-0400
TZOFFSETTO:-0500
TZNAME:EST
DTSTART:20261101T060000
END:STANDARD
END:VTIMEZONE
BEGIN:VEVENT
DTSTART;TZID=America/Toronto:20250321T180000
DTEND;TZID=America/Toronto:20250321T235900
DTSTAMP:20260425T111008
CREATED:20250303T014323Z
LAST-MODIFIED:20250313T110855Z
UID:10000006-1742580000-1742601540@jcaontario.org
SUMMARY:Membership Social: Rae Town Edition
DESCRIPTION:
URL:https://jcaontario.org/event/membership-social-rae-town-edition/
LOCATION:Jamaican Canadian Community Centre\, 995 Arrow Rd\, ON\, North York\, Ontario\, M9M 2Z5\, Canada
ATTACH;FMTTYPE=image/jpeg:https://jcaontario.org/wp-content/uploads/2025/03/raetownnew-1.jpg
END:VEVENT
BEGIN:VEVENT
DTSTART;TZID=America/Toronto:20250309T130000
DTEND;TZID=America/Toronto:20250309T170000
DTSTAMP:20260425T111008
CREATED:20250126T184903Z
LAST-MODIFIED:20250303T014423Z
UID:10000005-1741525200-1741539600@jcaontario.org
SUMMARY:International Women's Day Celebration
DESCRIPTION:Get tickets
URL:https://jcaontario.org/event/international-womens-day-celebration/
LOCATION:Jamaican Canadian Community Centre\, 995 Arrow Rd\, ON\, North York\, Ontario\, M9M 2Z5\, Canada
CATEGORIES:JCA Eevnt
ATTACH;FMTTYPE=image/png:https://jcaontario.org/wp-content/uploads/2025/01/2025-JCA-Womens-Committee-International-Womens-Day-Lunch-Poster-Social-Media-1.png
END:VEVENT
END:VCALENDAR